BEGIN:VCALENDAR
VERSION:2.0
PRODID:-//eventon.com NONSGML v1.0//EN
CALSCALE:GREGORIAN
METHOD:PUBLISH
BEGIN:VEVENT
UID:69e5e184afd51
DTSTAMP:20260420T081916Z
DTSTART:20191207T093000Z
DTEND:20191207T170000Z
LOCATION:
SUMMARY:Performance Showcase (Saturday)
DESCRIPTION:Performance Showcase 2019  &#8211; Saturday December 7 When Se
 ssion 1 Doors 9:30am for a 10am start. Session 2 Doors 11:30 noon for a 12
 :00pm start. Session 3 Doors 1:30pm for 2pm start. Session 4 Doors 3:30pm f
 or a 4pm start. &nbsp; Where The Judith Wright Centre For Contemporary Arts
  420 Brunswick[..]\nhttps://guitargym.com.au/events/performance-showcase-20
 19/
URL:https://guitargym.com.au/events/performance-showcase-2019/
END:VEVENT
END:VCALENDAR