BEGIN:VCALENDAR
VERSION:2.0
PRODID:-//eventon.com NONSGML v1.0//EN
CALSCALE:GREGORIAN
METHOD:PUBLISH
BEGIN:VEVENT
UID:69e5e1554211c
DTSTAMP:20260420T081829Z
DTSTART:20241130T230000Z
DTEND:20241201T053000Z
LOCATION:The Guitar Gym INDOOROOPILLY 4/100 Coonan St\,  INDOOROOPILLY 4068
SUMMARY:TBC: Rehearsals For Performance Showcase
DESCRIPTION:\nhttps://guitargym.com.au/events/rehearsals-for-performance-sh
 owcase-7/
URL:https://guitargym.com.au/events/rehearsals-for-performance-showcase-7/
END:VEVENT
END:VCALENDAR